BEGIN:VCALENDAR
VERSION:2.0
PRODID:-//IWHEB e.V. - ECPv6.15.20//NONSGML v1.0//EN
CALSCALE:GREGORIAN
METHOD:PUBLISH
X-ORIGINAL-URL:https://www.iwheb.de
X-WR-CALDESC:Veranstaltungen für IWHEB e.V.
REFRESH-INTERVAL;VALUE=DURATION:PT1H
X-Robots-Tag:noindex
X-PUBLISHED-TTL:PT1H
BEGIN:VTIMEZONE
TZID:UTC
BEGIN:STANDARD
TZOFFSETFROM:+0000
TZOFFSETTO:+0000
TZNAME:UTC
DTSTART:20230101T000000
END:STANDARD
END:VTIMEZONE
BEGIN:VEVENT
DTSTART;TZID=UTC:20260412T110000
DTEND;TZID=UTC:20260412T160000
DTSTAMP:20260421T083517
CREATED:20260325T114540Z
LAST-MODIFIED:20260325T114540Z
UID:1788-1775991600-1776009600@www.iwheb.de
SUMMARY:Igelpflege Advanced Teil 2
DESCRIPTION:Wir bieten erneut unsere Vorträge für die erfahrene Igelpflege an. Tierärztin Stefanie Knaup vermittelt verständlich notwendige Grundlagen zum erkennen\, diagnostizieren und behandeln der wichtigsten Erkrankungen bei Igeln. Ein Teil widmet sich der heraufordernden Aufgabe der Säuglingsaufzucht. \nTeil 2: \n\n\n\nAllgemeines: \n\n\nSpritzen\nInfusionen\nZwangsernährung\nMedikamentengabe\n\n\nErkrankungen: \n\n\nAtemorgane\nMagen-Darm\nHaut\nZähne\nVerletzungen\nParasiten
URL:https://www.iwheb.de/event/igelpflege-advanced-teil-2-2/
CATEGORIES:Fortbildungen,Online Seminar
ATTACH;FMTTYPE=image/jpeg:https://www.iwheb.de/wp-content/uploads/2024/02/IMG-20240108-WA0050-e1708025820577.jpg
ORGANIZER;CN="Igel- und Wildtierhilfe Eckernf%C3%B6rder Bucht e.V.":MAILTO:veranstaltungen@iwheb.de
END:VEVENT
BEGIN:VEVENT
DTSTART;TZID=UTC:20260411T110000
DTEND;TZID=UTC:20260411T160000
DTSTAMP:20260421T083517
CREATED:20260325T114250Z
LAST-MODIFIED:20260325T114250Z
UID:1786-1775905200-1775923200@www.iwheb.de
SUMMARY:Igelpflege Advanced Teil 1
DESCRIPTION:Wir bieten erneut unsere Vorträge für die erfahrene Igelpflege an. Tierärztin Stefanie Knaup vermittelt verständlich notwendige Grundlagen zum erkennen\, diagnostizieren und behandeln der wichtigsten Erkrankungen bei Igeln. Ein Teil widmet sich der heraufordernden Aufgabe der Säuglingsaufzucht. \nTeil 1: \n\nGesetze\, die es zu beachten gibt\nAufzucht von verwaisten Igelsäuglingen\nAufnahme von Igeln\nErkennen von Krankheiten\, Verletzungen\nErstversorgung und Stabilisierung\nWundversorgung
URL:https://www.iwheb.de/event/igelpflege-advanced-teil-1-2/
CATEGORIES:Fortbildungen,Online Seminar
ATTACH;FMTTYPE=image/jpeg:https://www.iwheb.de/wp-content/uploads/2024/02/IMG-20240108-WA0053-e1708026344522.jpg
ORGANIZER;CN="Igel- und Wildtierhilfe Eckernf%C3%B6rder Bucht e.V.":MAILTO:veranstaltungen@iwheb.de
END:VEVENT
BEGIN:VEVENT
DTSTART;TZID=UTC:20241202T120000
DTEND;TZID=UTC:20241208T190000
DTSTAMP:20260421T083517
CREATED:20241031T092406Z
LAST-MODIFIED:20241031T092406Z
UID:1615-1733140800-1733684400@www.iwheb.de
SUMMARY:Eckernförder Weihnachtsmarkt
DESCRIPTION:Auch in diesem Jahr sind wir wieder mit einem Stand auf dem Eckernförder Weihnachtsmarkt zu finden. \nKleine Geschenke\, weihnachtliche Dekoration und viele Informationen rund um den Igel und naturnahe Gärten. \nWir freuen uns auf euren Besuch. \nIn diesem Jahr findet ihr uns vom 02. bis 08.12.2024 auf dem Marktplatz an der Nikolaikirche in Eckernförde.
URL:https://www.iwheb.de/event/eckernfoerder-weihnachtsmarkt/
ATTACH;FMTTYPE=image/jpeg:https://www.iwheb.de/wp-content/uploads/2024/10/Weihnachtsmarkt-e1730366441157.jpg
END:VEVENT
BEGIN:VEVENT
DTSTART;VALUE=DATE:20241129
DTEND;VALUE=DATE:20241201
DTSTAMP:20260421T083517
CREATED:20241031T090857Z
LAST-MODIFIED:20241031T091027Z
UID:1610-1732838400-1733011199@www.iwheb.de
SUMMARY:17. Adventsmeile Dänischenhagen
DESCRIPTION:Am Freitag den 29.11.24 von 12 bis 20 Uhr und am 30.11.24 von 10 bis 20 Uhr. \nHier sind wir mit einem Stand vertreten. Informationen und kleine Aufmerksamkeiten. Der Erlös geht zu 100% an den Verein. \nWir freuen uns auf deinen Besuch.
URL:https://www.iwheb.de/event/17-adventsmeile-daenischenhagen/
LOCATION:Concept Store (Nina Rubin)\, Mühlenstraße 13\, Dänischenhagen\, Schleswig-Holstein\, 24229\, Germany
ATTACH;FMTTYPE=image/jpeg:https://www.iwheb.de/wp-content/uploads/2024/10/17AdventsmeileDaenischenhagen.jpg
ORGANIZER;CN="Igel- und Wildtierhilfe Eckernf%C3%B6rder Bucht e.V.":MAILTO:veranstaltungen@iwheb.de
END:VEVENT
BEGIN:VEVENT
DTSTART;TZID=UTC:20241109T080000
DTEND;TZID=UTC:20241109T200000
DTSTAMP:20260421T083517
CREATED:20241031T093235Z
LAST-MODIFIED:20241031T111903Z
UID:1619-1731139200-1731182400@www.iwheb.de
SUMMARY:Tombola bei Möbel Höffner
DESCRIPTION:Am Samstag\, den 09.11.24 gibt es bei Möbel Höffner in Kiel eine Tombola zugunsten unseres Vereines. Es warten tolle Preise auf euch. Der Erlös aus dem Losverkauf geht zu 100% an unseren Verein. \nWir freuen uns auf euren Besuch und hoffen auf regen Losverkauf. \nGerne rumerzählen.
URL:https://www.iwheb.de/event/tombola-bei-moebel-hoeffner/
LOCATION:Möbel Höffner\, Westring 5\, Kiel\, Schleswig-Holstein\, 24114\, Germany
ATTACH;FMTTYPE=image/jpeg:https://www.iwheb.de/wp-content/uploads/2024/10/MoebelHoeffner091124.jpg
END:VEVENT
BEGIN:VEVENT
DTSTART;TZID=UTC:20240915T140000
DTEND;TZID=UTC:20240915T180000
DTSTAMP:20260421T083517
CREATED:20240215T191818Z
LAST-MODIFIED:20240215T192200Z
UID:1012-1726408800-1726423200@www.iwheb.de
SUMMARY:Igelpflege Basic
DESCRIPTION:Diese Seminar gibt eine allgemeine Einführung in die Igelpflege. Es geht um die Unterbringung\, Ernährung\, Handling\, benötigte Ausstattung und darum was einen in der Igelpflege so erwartet. Das Seminar findet via Zoom statt. Das Seminar ist für Vereinsmitglieder kostenfrei. \nAnmeldung zu EventsBitte aktiviere JavaScript in deinem Browser\, um dieses Formular fertigzustellen.Bitte aktiviere JavaScript in deinem Browser\, um dieses Formular fertigzustellen.Name *VornameNachnameE-Mail-Adresse *Bist du Mitglied im Verein? *janeinWenn du Mitglied im Verein bist\, musst du für Seminar und Vorträge nichts bezahlen.An welchen Veranstaltungen möchtest du teilnehmen? *Igelpflege BasicIgelpflege Advanced Teil 1Igelpflege Advanced Teil 2MikroskopierkursHast du bereits Erfahrungen in der Igelpflege? *janeinAbsenden
URL:https://www.iwheb.de/event/igelpflege-basic/
CATEGORIES:Fortbildungen,Online Seminar
ATTACH;FMTTYPE=image/png:https://www.iwheb.de/wp-content/uploads/2023/04/Design-ohne-Titel-5-e1708026194435.png
ORGANIZER;CN="Igel- und Wildtierhilfe Eckernf%C3%B6rder Bucht e.V.":MAILTO:veranstaltungen@iwheb.de
END:VEVENT
BEGIN:VEVENT
DTSTART;TZID=UTC:20240817T140000
DTEND;TZID=UTC:20240817T180000
DTSTAMP:20260421T083517
CREATED:20240215T192248Z
LAST-MODIFIED:20240215T192248Z
UID:1006-1723903200-1723917600@www.iwheb.de
SUMMARY:Mikroskopier Kurs
DESCRIPTION:Dieser Kurs ist für alle die einen Einblick in das Mikroskopieren bekommen möchten. Vor allem in der Igelpflege ist es sehr viel wert\, wenn man selber Kotproben untersuchen kann. Denn der häufigste Grund für die Aufnahme eines Igels in eine Pflegestelle ist der teilweise massive Befall mit Innenparasiten. \nWir geben einen Überblick über die relevantesten Parasiten bei Igeln und üben gemeinsam die Untersuchung von Kotproben. Wer bereits ein Mikroskop besitzt\, sollte dies zur Veranstaltung mitbringen. \nAnmeldung zu EventsBitte aktiviere JavaScript in deinem Browser\, um dieses Formular fertigzustellen.Bitte aktiviere JavaScript in deinem Browser\, um dieses Formular fertigzustellen.Name *VornameNachnameE-Mail-Adresse *Bist du Mitglied im Verein? *janeinWenn du Mitglied im Verein bist\, musst du für Seminar und Vorträge nichts bezahlen.An welchen Veranstaltungen möchtest du teilnehmen? *Igelpflege BasicIgelpflege Advanced Teil 1Igelpflege Advanced Teil 2MikroskopierkursHast du bereits Erfahrungen in der Igelpflege? *janeinAbsenden
URL:https://www.iwheb.de/event/mikroskopier-kurs/
LOCATION:UmweltInfoZentrum Eckernförde\, Hans-Christian-Andersen-Weg 7\, Eckernförde\, Schleswig-Holstein\, 24340\, Deutschland
CATEGORIES:Fortbildungen,Seminar
ATTACH;FMTTYPE=image/jpeg:https://www.iwheb.de/wp-content/uploads/2024/02/HW-e1708026273258.jpg
ORGANIZER;CN="Igel- und Wildtierhilfe Eckernf%C3%B6rder Bucht e.V.":MAILTO:veranstaltungen@iwheb.de
END:VEVENT
BEGIN:VEVENT
DTSTART;TZID=UTC:20240721T140000
DTEND;TZID=UTC:20240721T180000
DTSTAMP:20260421T083517
CREATED:20240215T190953Z
LAST-MODIFIED:20240215T192333Z
UID:1010-1721570400-1721584800@www.iwheb.de
SUMMARY:Igelpflege Advanced Teil 2
DESCRIPTION:Dieses Seminar ist für Igelpäppler\, die bereits Erfahrung in der Igelpflege gesammelt haben und tiefer einsteigen möchten. Es wird in diesem Seminar vor allem um das Erkennen von Erkrankungen\, Erstversorgung\, Wundbehandlungen\, Handling verletzter Igel\, Verabreichen von Medikamenten nach tierärztlicher Verordnung usw. \nDas Seminar findet via Zoom statt. \nDas Seminar ist für Vereinsmitglieder kostenfrei. \nAnmeldung zu EventsBitte aktiviere JavaScript in deinem Browser\, um dieses Formular fertigzustellen.Bitte aktiviere JavaScript in deinem Browser\, um dieses Formular fertigzustellen.Name *VornameNachnameE-Mail-Adresse *Bist du Mitglied im Verein? *janeinWenn du Mitglied im Verein bist\, musst du für Seminar und Vorträge nichts bezahlen.An welchen Veranstaltungen möchtest du teilnehmen? *Igelpflege BasicIgelpflege Advanced Teil 1Igelpflege Advanced Teil 2MikroskopierkursHast du bereits Erfahrungen in der Igelpflege? *janeinAbsenden
URL:https://www.iwheb.de/event/igelpflege-advanced-teil-2/
CATEGORIES:Fortbildungen,Online Seminar
ATTACH;FMTTYPE=image/jpeg:https://www.iwheb.de/wp-content/uploads/2024/02/IMG-20240108-WA0053-e1708026344522.jpg
ORGANIZER;CN="Igel- und Wildtierhilfe Eckernf%C3%B6rder Bucht e.V.":MAILTO:veranstaltungen@iwheb.de
END:VEVENT
BEGIN:VEVENT
DTSTART;TZID=UTC:20240720T140000
DTEND;TZID=UTC:20240720T180000
DTSTAMP:20260421T083517
CREATED:20240215T192606Z
LAST-MODIFIED:20240215T192606Z
UID:1008-1721484000-1721498400@www.iwheb.de
SUMMARY:Igelpflege Advanced Teil 1
DESCRIPTION:Dieses Seminar ist für Igelpäppler\, die bereits Erfahrung in der Igelpflege gesammelt haben und tiefer einsteigen möchten. Es wird in diesem Seminar vor allem um das Erkennen von Erkrankungen\, Erstversorgung\, Wundbehandlungen\, Handling verletzter Igel\, Verabreichen von Medikamenten nach tierärztlicher Verordnung usw. \nDas Seminar findet via Zoom statt. \nDas Seminar ist für Vereinsmitglieder kostenfrei. \nAnmeldung zu EventsBitte aktiviere JavaScript in deinem Browser\, um dieses Formular fertigzustellen.Bitte aktiviere JavaScript in deinem Browser\, um dieses Formular fertigzustellen.Name *VornameNachnameE-Mail-Adresse *Bist du Mitglied im Verein? *janeinWenn du Mitglied im Verein bist\, musst du für Seminar und Vorträge nichts bezahlen.An welchen Veranstaltungen möchtest du teilnehmen? *Igelpflege BasicIgelpflege Advanced Teil 1Igelpflege Advanced Teil 2MikroskopierkursHast du bereits Erfahrungen in der Igelpflege? *janeinAbsenden
URL:https://www.iwheb.de/event/igelpflege-advanced-teil-1/
CATEGORIES:Fortbildungen,Online Seminar
ATTACH;FMTTYPE=image/jpeg:https://www.iwheb.de/wp-content/uploads/2024/02/IMG-20240108-WA0050-e1708025820577.jpg
ORGANIZER;CN="Igel- und Wildtierhilfe Eckernf%C3%B6rder Bucht e.V.":MAILTO:veranstaltungen@iwheb.de
END:VEVENT
BEGIN:VEVENT
DTSTART;TZID=UTC:20240714T110000
DTEND;TZID=UTC:20240714T170000
DTSTAMP:20260421T083517
CREATED:20240215T192812Z
LAST-MODIFIED:20240215T192812Z
UID:1016-1720954800-1720976400@www.iwheb.de
SUMMARY:Sommerfest für Wildtiere
DESCRIPTION:Einige Vereine und Wildtierpflegende veranstalten ein großes Sommerfest mit Infoständen und Aktivitäten für Kinder und Erwachsene. Es wird auch für das leibliche Wohl gesorgt. Die Einnahmen des Tages gehen zu 100% an die Vereine und Wildtierpfleger.
URL:https://www.iwheb.de/event/sommerfest-fuer-wildtiere/
LOCATION:UmweltInfoZentrum Eckernförde\, Hans-Christian-Andersen-Weg 7\, Eckernförde\, Schleswig-Holstein\, 24340\, Deutschland
CATEGORIES:Veranstaltung
ATTACH;FMTTYPE=image/jpeg:https://www.iwheb.de/wp-content/uploads/2024/02/WhatsApp-Bild-2023-07-16-um-11.43.17_bfffc1e3.jpg
END:VEVENT
BEGIN:VEVENT
DTSTART;TZID=UTC:20240608T150000
DTEND;TZID=UTC:20240608T170000
DTSTAMP:20260421T083517
CREATED:20240215T192939Z
LAST-MODIFIED:20240215T192939Z
UID:1014-1717858800-1717866000@www.iwheb.de
SUMMARY:Vortrag bei der Freien Wählergemeinschaft Fleckeby
DESCRIPTION:Die Freie Wählergemeinschaft Fleckeby hat uns eingeladen einen Vortrag über Igel zu halten.
URL:https://www.iwheb.de/event/vortrag-bei-der-freien-waehlergemeinschaft-fleckeby/
CATEGORIES:Informations Veranstaltungen,Vorträge
ATTACH;FMTTYPE=image/png:https://www.iwheb.de/wp-content/uploads/2023/03/IgelWaldlaub.png
END:VEVENT
BEGIN:VEVENT
DTSTART;TZID=UTC:20240225T080000
DTEND;TZID=UTC:20240225T170000
DTSTAMP:20260421T083517
CREATED:20240225T124952Z
LAST-MODIFIED:20240225T125335Z
UID:1589-1708848000-1708880400@www.iwheb.de
SUMMARY:10. Apfelblütenfest im Nordkolleg
DESCRIPTION:Wir dürfen uns beim Apfelblütenfest im Nordkolleg mit einem Infostand präsentieren. Besucht uns doch\, schaut euch das wunderschöne Gelände an und lasst euch durch die verschiedenen Aussteller informieren.
URL:https://www.iwheb.de/event/10-apfelbluetenfest-im-nordkolleg/
LOCATION:Nordkolleg Rendsburg GmbH\, Am Gerhardshain 44\, Rendsburg\, Schleswig-Holstein\, 24768\, Deutschland
ATTACH;FMTTYPE=image/jpeg:https://www.iwheb.de/wp-content/uploads/2024/02/csm_Apfelbluetenfest_2023_Quadrat_11476026f3.jpg
END:VEVENT
END:VCALENDAR